BEGIN:VCALENDAR
VERSION:2.0
PRODID:-//Tri Valley CAREs - ECPv6.15.20//NONSGML v1.0//EN
CALSCALE:GREGORIAN
METHOD:PUBLISH
X-ORIGINAL-URL:https://trivalleycares.org
X-WR-CALDESC:Events for Tri Valley CAREs
REFRESH-INTERVAL;VALUE=DURATION:PT1H
X-Robots-Tag:noindex
X-PUBLISHED-TTL:PT1H
BEGIN:VTIMEZONE
TZID:America/Los_Angeles
BEGIN:DAYLIGHT
TZOFFSETFROM:-0800
TZOFFSETTO:-0700
TZNAME:PDT
DTSTART:20210314T100000
END:DAYLIGHT
BEGIN:STANDARD
TZOFFSETFROM:-0700
TZOFFSETTO:-0800
TZNAME:PST
DTSTART:20211107T090000
END:STANDARD
BEGIN:DAYLIGHT
TZOFFSETFROM:-0800
TZOFFSETTO:-0700
TZNAME:PDT
DTSTART:20220313T100000
END:DAYLIGHT
BEGIN:STANDARD
TZOFFSETFROM:-0700
TZOFFSETTO:-0800
TZNAME:PST
DTSTART:20221106T090000
END:STANDARD
BEGIN:DAYLIGHT
TZOFFSETFROM:-0800
TZOFFSETTO:-0700
TZNAME:PDT
DTSTART:20230312T100000
END:DAYLIGHT
BEGIN:STANDARD
TZOFFSETFROM:-0700
TZOFFSETTO:-0800
TZNAME:PST
DTSTART:20231105T090000
END:STANDARD
END:VTIMEZONE
BEGIN:VEVENT
DTSTART;TZID=America/Los_Angeles:20220602T160000
DTEND;TZID=America/Los_Angeles:20220602T170000
DTSTAMP:20260419T122418
CREATED:20220602T205627Z
LAST-MODIFIED:20250923T210002Z
UID:2443-1654185600-1654189200@trivalleycares.org
SUMMARY:Promote the Nuclear Ban Treaty at this Historic Time
DESCRIPTION:Join us for a workshop: Local media work will raise awareness in your area and boost opportunities for national media attention. In the lead-up to the nationwide release of the campaign Statement (see below for details)\, Participate in the Media & Press Release Workshop on Thursday June 2 (4pm PST\, 5pm MST\, 6pm CST\, 7pm EST) to get everything you need to know to create and send out effective and impactful press releases\, and get energized by this shared nation-wide effort! Yasmeen Silva will lead this 90-minute workshop. Register here\, and share the workshop with your other networks! \nTo enlarge PDF CLICK HERE! \nCLICK HERE TO VIEW ALL POSTS >
URL:https://trivalleycares.org/events/promote-the-nuclear-ban-treaty-at-this-historic-time
ATTACH;FMTTYPE=image/png:https://trivalleycares.org/wp-content/uploads/2022/06/Promote-png.png
END:VEVENT
BEGIN:VEVENT
DTSTART;TZID=America/Los_Angeles:20220602T173000
DTEND;TZID=America/Los_Angeles:20220602T183000
DTSTAMP:20260419T122418
CREATED:20220531T233632Z
LAST-MODIFIED:20220614T235304Z
UID:2185-1654191000-1654194600@trivalleycares.org
SUMMARY:June Virtual LTE Writing Party
DESCRIPTION:CLICK HERE to join the Zoom Meeting using the link.\nMeeting ID: 819 2627 2413 • Password: 024716 \nCLICK HERE TO VIEW ALL POSTS >
URL:https://trivalleycares.org/events/2185
ATTACH;FMTTYPE=image/png:https://trivalleycares.org/wp-content/uploads/2022/05/06-02-22-LTE-mo.png
END:VEVENT
BEGIN:VEVENT
DTSTART;TZID=America/Los_Angeles:20220607T090000
DTEND;TZID=America/Los_Angeles:20220607T220000
DTSTAMP:20260419T122418
CREATED:20220607T235401Z
LAST-MODIFIED:20220725T211500Z
UID:2192-1654592400-1654639200@trivalleycares.org
SUMMARY:TRI-VALLEY CAREs JOINS NATIONWIDE CALL
DESCRIPTION:In the face of widespread concern about the threat of nuclear weapons\, Tri-Valley CAREs’ members will join with organizations and leaders across the country to release a Statement on the Existential Threat of Nuclear Weapons and on the Treaty on the Prohibition of Nuclear Weapons at the Lawrence Livermore National Laboratory’s West Gate on Vasco Road at 9 AM on Tuesday\, June 7\, 2022. \nCLICK HERE TO VIEW ALL POSTS >
URL:https://trivalleycares.org/events/tri-valley-cares-joins-nationwide-call
ATTACH;FMTTYPE=image/png:https://trivalleycares.org/wp-content/uploads/2022/07/NBTC-Logo.png
END:VEVENT
BEGIN:VEVENT
DTSTART;TZID=America/Los_Angeles:20220616T193000
DTEND;TZID=America/Los_Angeles:20220616T203000
DTSTAMP:20260419T122418
CREATED:20220614T233448Z
LAST-MODIFIED:20220614T233500Z
UID:2183-1655407800-1655411400@trivalleycares.org
SUMMARY:Tri-Valley CAREs’ June Virtual Meeting
DESCRIPTION:Tri-Valley CAREs’ would like to remind you of our monthly virtual meeting that will be held at 7:30 pm on Thursday\, June 16\, 2022. Our monthly meetings are open to all interested members of the public. You will get up-to-the-minute reports on nuclear issues\, and become part of a peace and justice community that is creating positive change locally\, nationally and globally! Join us virtually! \nAnd\, if Spanish is your first language\, I’d love to provide translation on request. Contact me at raiza@trivalleycares.org. I hope to see you! \nCLICK HERE to join the Zoom Meeting using the link.\nMeeting ID: 879 6921 5853 • Password: 490203 \nTo view the file click here! \nCLICK HERE TO VIEW ALL POSTS >
URL:https://trivalleycares.org/events/tri-valley-cares-june-virtual-meeting-2
ATTACH;FMTTYPE=image/png:https://trivalleycares.org/wp-content/uploads/2022/06/06-16-22-TVC-mo1.png
END:VEVENT
END:VCALENDAR