BEGIN:VCALENDAR
VERSION:2.0
PRODID:-//Tri Valley CAREs - ECPv6.15.20//NONSGML v1.0//EN
CALSCALE:GREGORIAN
METHOD:PUBLISH
X-ORIGINAL-URL:https://trivalleycares.org
X-WR-CALDESC:Events for Tri Valley CAREs
REFRESH-INTERVAL;VALUE=DURATION:PT1H
X-Robots-Tag:noindex
X-PUBLISHED-TTL:PT1H
BEGIN:VTIMEZONE
TZID:America/Los_Angeles
BEGIN:DAYLIGHT
TZOFFSETFROM:-0800
TZOFFSETTO:-0700
TZNAME:PDT
DTSTART:20210314T100000
END:DAYLIGHT
BEGIN:STANDARD
TZOFFSETFROM:-0700
TZOFFSETTO:-0800
TZNAME:PST
DTSTART:20211107T090000
END:STANDARD
BEGIN:DAYLIGHT
TZOFFSETFROM:-0800
TZOFFSETTO:-0700
TZNAME:PDT
DTSTART:20220313T100000
END:DAYLIGHT
BEGIN:STANDARD
TZOFFSETFROM:-0700
TZOFFSETTO:-0800
TZNAME:PST
DTSTART:20221106T090000
END:STANDARD
BEGIN:DAYLIGHT
TZOFFSETFROM:-0800
TZOFFSETTO:-0700
TZNAME:PDT
DTSTART:20230312T100000
END:DAYLIGHT
BEGIN:STANDARD
TZOFFSETFROM:-0700
TZOFFSETTO:-0800
TZNAME:PST
DTSTART:20231105T090000
END:STANDARD
END:VTIMEZONE
BEGIN:VEVENT
DTSTART;VALUE=DATE:20220423
DTEND;VALUE=DATE:20220424
DTSTAMP:20260423T063638
CREATED:20220423T163056Z
LAST-MODIFIED:20220505T195304Z
UID:1932-1650672000-1650758399@trivalleycares.org
SUMMARY:Tracy Earth Day Project
DESCRIPTION:Saturday April 23\, 2022\nFrom 9:00 am to 1:00 pm\nDowntown 9th St. Tracy\, CA \nVendor Booths\, Educational Information\, Family Activities including Tree Planting\, Bike Rodeo\, Sidewalk Chalk Art\, Free Movie Screening and special guest: “Sparkles the Clown”. \nMovie will be presented from 3:00 PM to 5:00 PM: “Kiss the Ground“. \nCLICK HERE TO VIEW ALL POSTS >
URL:https://trivalleycares.org/events/tracy-earth-project
ATTACH;FMTTYPE=image/jpeg:https://trivalleycares.org/wp-content/uploads/2022/05/279269587_295986729402982_6003061542081330843_n.jpg
END:VEVENT
END:VCALENDAR