BEGIN:VCALENDAR
VERSION:2.0
PRODID:-//Tri Valley CAREs - ECPv6.15.20//NONSGML v1.0//EN
CALSCALE:GREGORIAN
METHOD:PUBLISH
X-WR-CALNAME:Tri Valley CAREs
X-ORIGINAL-URL:https://trivalleycares.org
X-WR-CALDESC:Events for Tri Valley CAREs
REFRESH-INTERVAL;VALUE=DURATION:PT1H
X-Robots-Tag:noindex
X-PUBLISHED-TTL:PT1H
BEGIN:VTIMEZONE
TZID:America/Los_Angeles
BEGIN:DAYLIGHT
TZOFFSETFROM:-0800
TZOFFSETTO:-0700
TZNAME:PDT
DTSTART:20210314T100000
END:DAYLIGHT
BEGIN:STANDARD
TZOFFSETFROM:-0700
TZOFFSETTO:-0800
TZNAME:PST
DTSTART:20211107T090000
END:STANDARD
BEGIN:DAYLIGHT
TZOFFSETFROM:-0800
TZOFFSETTO:-0700
TZNAME:PDT
DTSTART:20220313T100000
END:DAYLIGHT
BEGIN:STANDARD
TZOFFSETFROM:-0700
TZOFFSETTO:-0800
TZNAME:PST
DTSTART:20221106T090000
END:STANDARD
BEGIN:DAYLIGHT
TZOFFSETFROM:-0800
TZOFFSETTO:-0700
TZNAME:PDT
DTSTART:20230312T100000
END:DAYLIGHT
BEGIN:STANDARD
TZOFFSETFROM:-0700
TZOFFSETTO:-0800
TZNAME:PST
DTSTART:20231105T090000
END:STANDARD
END:VTIMEZONE
BEGIN:VEVENT
DTSTART;TZID=America/Los_Angeles:20220421T193000
DTEND;TZID=America/Los_Angeles:20220421T203000
DTSTAMP:20260423T070310
CREATED:20220419T210319Z
LAST-MODIFIED:20220419T210432Z
UID:1906-1650569400-1650573000@trivalleycares.org
SUMMARY:Tri-Valley CAREs’ April Virtual Meeting
DESCRIPTION:Tri-Valley CAREs’ would like to remind you of our monthly virtual meeting that will be held at 7:30 pm on Thursday\, April 21\, 2022. Our monthly meetings are open to all interested members of the public. You will get up-to-the-minute reports on nuclear issues\, and become part of a peace and justice community that is creating positive change locally\, nationally and globally! Join us virtually! \nAnd\, if Spanish is your first language\, I’d love to provide translation on request. Contact me at raiza@trivalleycares.org. I hope to see you! \nCLICK HERE to join the Zoom Meeting using the link.\nMeeting ID: 882 9188 4608 • Password: 497671 \nCLICK HERE TO VIEW ALL POSTS >
URL:https://trivalleycares.org/events/tri-valley-cares-april-virtual-meeting-2
ATTACH;FMTTYPE=image/jpeg:https://trivalleycares.org/wp-content/uploads/2022/04/04-21-22-TVC-1-mo.jpg
END:VEVENT
END:VCALENDAR