BEGIN:VCALENDAR
VERSION:2.0
PRODID:-//Tri Valley CAREs - ECPv6.15.20//NONSGML v1.0//EN
CALSCALE:GREGORIAN
METHOD:PUBLISH
X-ORIGINAL-URL:https://trivalleycares.org
X-WR-CALDESC:Events for Tri Valley CAREs
REFRESH-INTERVAL;VALUE=DURATION:PT1H
X-Robots-Tag:noindex
X-PUBLISHED-TTL:PT1H
BEGIN:VTIMEZONE
TZID:America/Los_Angeles
BEGIN:DAYLIGHT
TZOFFSETFROM:-0800
TZOFFSETTO:-0700
TZNAME:PDT
DTSTART:20210314T100000
END:DAYLIGHT
BEGIN:STANDARD
TZOFFSETFROM:-0700
TZOFFSETTO:-0800
TZNAME:PST
DTSTART:20211107T090000
END:STANDARD
BEGIN:DAYLIGHT
TZOFFSETFROM:-0800
TZOFFSETTO:-0700
TZNAME:PDT
DTSTART:20220313T100000
END:DAYLIGHT
BEGIN:STANDARD
TZOFFSETFROM:-0700
TZOFFSETTO:-0800
TZNAME:PST
DTSTART:20221106T090000
END:STANDARD
BEGIN:DAYLIGHT
TZOFFSETFROM:-0800
TZOFFSETTO:-0700
TZNAME:PDT
DTSTART:20230312T100000
END:DAYLIGHT
BEGIN:STANDARD
TZOFFSETFROM:-0700
TZOFFSETTO:-0800
TZNAME:PST
DTSTART:20231105T090000
END:STANDARD
END:VTIMEZONE
BEGIN:VEVENT
DTSTART;TZID=America/Los_Angeles:20220415T074500
DTEND;TZID=America/Los_Angeles:20220415T120000
DTSTAMP:20260423T063912
CREATED:20220321T200934Z
LAST-MODIFIED:20250930T181721Z
UID:1808-1650008700-1650024000@trivalleycares.org
SUMMARY:Good Friday Virtual Service and Protest Focuses on Livermore Lab
DESCRIPTION:On “Good Friday\,” April 15\, 2022\, our colleagues at the Ecumenical Peace Institute are planning a virtual service and annual nuclear weapons protest. This year\, the event will be virtual\, with a few of the speakers recorded live at the Livermore Lab. The event will call for an end to the development of new nuclear weapons at the Lab. \nAll people of faith or good will are invited to join on-line. The event will include readings and speakers from a variety of the world’s spiritual traditions. \nThe Good Friday service and protest will open with music at 7:45 am. The program begins at 8 am with the Rev. Allison Tanner\, who will be streamed from outside the Livermore Nuclear Weapons Lab. She will speak on the theme: “This Tax Day\, What Does the Lord Require of Us?” \nMarylia Kelley\, executive director at the Livermore-based Tri-Valley CAREs\, will also speak from the gates of the Lab. She will offer an update on the Livermore’s nuclear weapons work with a focus on the new warheads the Lab is currently developing. \nAdditionally\, Janet Cordes Gibson will do the welcome. Isabella Zizi will offer a First Nation honoring of the land and the ancestors. Farha Andrabi Navaid will share the Good Friday invocation. Wynd Kaufmyn and Rev. Max Lynn will conduct the call and response reading\, and Carl Anderson will offer thoughts on nonviolence and the war in Ukraine. \nBetsy Rose will provide music\, with additional selections from Daniel Zwickel and the Rev. Sylvia Brandon-Perez. The program also includes Jim Haber\, Mark Coplan\, Tony Scarr\, and Fr. Ivan Tou. \nFor the Zoom link and for more information visit Ecumenical Peace Institute www.epicalc.org or call 510-990-0374. \nCLICK HERE for a copy of the program\, including the call and response readings. \nHAGA CLIC AQUÍ para leer la información en español \nCLICK HERE TO VIEW ALL POSTS >
URL:https://trivalleycares.org/events/good-friday-virtual-service-and-protest-focuses-on-livermore-lab
ATTACH;FMTTYPE=image/jpeg:https://trivalleycares.org/wp-content/uploads/2022/03/good-friday-2022.jpeg
END:VEVENT
END:VCALENDAR